BEGIN:VCALENDAR
VERSION:2.0
CREATED:20260330T124722Z
PRODID:-//Tonix Pharmaceuticals Holding Corp./Equisolve Calendar v1.0//EN
METHOD:PUBLISH
BEGIN:VEVENT
UID:d58f3410fd729b7c4f96a279fbd6da56
DTSTAMP:20260423T124153Z
DTSTART:20260507T150000Z
DTEND:20260507T160000Z
SUMMARY:Annual Meeting of Shareholders
DESCRIPTION:Annual Meeting of Shareholders
Date: May 7\, 2026 11:00 am EDT
Webcast: https://web.viewproxy.com/tonixpharma/2026
END:VEVENT
END:VCALENDAR
